BEGIN:VCALENDAR
VERSION:2.0
PRODID:-//MindSET-do - ECPv6.15.20//NONSGML v1.0//EN
CALSCALE:GREGORIAN
METHOD:PUBLISH
X-WR-CALNAME:MindSET-do
X-ORIGINAL-URL:https://mindset-do.edu.au
X-WR-CALDESC:Events for MindSET-do
REFRESH-INTERVAL;VALUE=DURATION:PT1H
X-Robots-Tag:noindex
X-PUBLISHED-TTL:PT1H
BEGIN:VTIMEZONE
TZID:Australia/Brisbane
BEGIN:STANDARD
TZOFFSETFROM:+1000
TZOFFSETTO:+1000
TZNAME:AEST
DTSTART:20230101T000000
END:STANDARD
END:VTIMEZONE
BEGIN:VEVENT
DTSTART;TZID=Australia/Brisbane:20241014T153000
DTEND;TZID=Australia/Brisbane:20241014T170000
DTSTAMP:20260420T225330
CREATED:20241023T002449Z
LAST-MODIFIED:20241023T002449Z
UID:17913-1728919800-1728925200@mindset-do.edu.au
SUMMARY:Caloundra SHS - Bright Futures Program - Spike Sparkes
DESCRIPTION:
URL:https://mindset-do.edu.au/calendar-event/caloundra-shs-bright-futures-program-spike-sparkes/
LOCATION:Caloundra State High School
CATEGORIES:Community
ORGANIZER;CN="MindSET-do Community":MAILTO:mindset-do@usc.edu.au
END:VEVENT
END:VCALENDAR