BEGIN:VCALENDAR
VERSION:2.0
PRODID:-//MindSET-do - ECPv6.15.20//NONSGML v1.0//EN
CALSCALE:GREGORIAN
METHOD:PUBLISH
X-WR-CALNAME:MindSET-do
X-ORIGINAL-URL:https://mindset-do.edu.au
X-WR-CALDESC:Events for MindSET-do
REFRESH-INTERVAL;VALUE=DURATION:PT1H
X-Robots-Tag:noindex
X-PUBLISHED-TTL:PT1H
BEGIN:VTIMEZONE
TZID:Australia/Brisbane
BEGIN:STANDARD
TZOFFSETFROM:+1000
TZOFFSETTO:+1000
TZNAME:AEST
DTSTART:20220101T000000
END:STANDARD
END:VTIMEZONE
BEGIN:VEVENT
DTSTART;TZID=Australia/Brisbane:20231130T153000
DTEND;TZID=Australia/Brisbane:20231130T170000
DTSTAMP:20260424T181548
CREATED:20231030T020126Z
LAST-MODIFIED:20231030T020126Z
UID:16642-1701358200-1701363600@mindset-do.edu.au
SUMMARY:Spike Sparks - Spike Trike
DESCRIPTION:Sunshine Coast Libraries in partnership with UniSC are offering a series of STEM workshops combining colourful building elements and intuitive coding using LEGO® Education SPIKE™. \nTry your hand at one workshop or come for all three! \nSpike Trike\nBuild on your coding skills\, using motors and sensors to automate its movement. \nFree. Registration essential. Ages 8-13years.
URL:https://mindset-do.edu.au/calendar-event/spike-sparks-spike-trike/
LOCATION:Beerwah Library\, 25 Peachester Road\, Beerwah\, Qld\, 4519\, Australia
CATEGORIES:Community
ATTACH;FMTTYPE=image/webp:https://mindset-do.edu.au/wp-content/uploads/2023/10/spike_sparks_1920.webp
ORGANIZER;CN="MindSET-do Community":MAILTO:mindset-do@usc.edu.au
END:VEVENT
END:VCALENDAR