BEGIN:VCALENDAR
VERSION:2.0
PRODID:-//MindSET-do - ECPv6.15.20//NONSGML v1.0//EN
CALSCALE:GREGORIAN
METHOD:PUBLISH
X-WR-CALNAME:MindSET-do
X-ORIGINAL-URL:https://mindset-do.edu.au
X-WR-CALDESC:Events for MindSET-do
REFRESH-INTERVAL;VALUE=DURATION:PT1H
X-Robots-Tag:noindex
X-PUBLISHED-TTL:PT1H
BEGIN:VTIMEZONE
TZID:Australia/Brisbane
BEGIN:STANDARD
TZOFFSETFROM:+1000
TZOFFSETTO:+1000
TZNAME:AEST
DTSTART:20250101T000000
END:STANDARD
END:VTIMEZONE
BEGIN:VEVENT
DTSTART;TZID=Australia/Brisbane:20260506T173000
DTEND;TZID=Australia/Brisbane:20260506T193000
DTSTAMP:20260420T203657
CREATED:20260416T032921Z
LAST-MODIFIED:20260416T032957Z
UID:25672-1778088600-1778095800@mindset-do.edu.au
SUMMARY:STEM Discovery & Pathways Workshop - Sunshine Coast
DESCRIPTION:Discover where STEM can take you at our STEM Discovery & Pathways Workshop. \nThis interactive two-hour session brings students and parents together to explore exciting future career pathways across industries such as technology\, health\, engineering\, and the environment. Learn how STEM subjects connect to real-world opportunities and the many directions students can take beyond school. \nWe’ll also explore pathways through high school\, including subject selection and how early choices can help keep future study and career options open. \nEnjoy light platter food on arrival before diving into hands-on VR and Microdrone Challenges\, where families work in teams to experience real-world STEM applications and industries in action. \nThis session is a great opportunity to spark ideas\, ask questions\, and gain insight into future study and career options in a rapidly evolving world.
URL:https://mindset-do.edu.au/calendar-event/stem-discovery-pathways-workshop-sunshine-coast/
LOCATION:UniSC Sunshine Coast\, 90 Sippy Downs Dr\, Sippy Downs\, Qld\, 4556
CATEGORIES:Community
ATTACH;FMTTYPE=image/png:https://mindset-do.edu.au/wp-content/uploads/2026/04/Workshops-event-banner.png
ORGANIZER;CN="MindSET-do":MAILTO:mindset-do@usc.edu.au
END:VEVENT
END:VCALENDAR